BEGIN:VCALENDAR
VERSION:2.0
PRODID:-//木曜午餐会ハワイセミナー主催団体 - ECPv6.15.20//NONSGML v1.0//EN
CALSCALE:GREGORIAN
METHOD:PUBLISH
X-WR-CALNAME:木曜午餐会ハワイセミナー主催団体
X-ORIGINAL-URL:https://mokuyo53.org/en
X-WR-CALDESC:Events for 木曜午餐会ハワイセミナー主催団体
REFRESH-INTERVAL;VALUE=DURATION:PT1H
X-Robots-Tag:noindex
X-PUBLISHED-TTL:PT1H
BEGIN:VTIMEZONE
TZID:Pacific/Honolulu
BEGIN:STANDARD
TZOFFSETFROM:-1000
TZOFFSETTO:-1000
TZNAME:HST
DTSTART:20230101T000000
END:STANDARD
END:VTIMEZONE
BEGIN:VEVENT
DTSTART;TZID=Pacific/Honolulu:20241024T113000
DTEND;TZID=Pacific/Honolulu:20241024T123000
DTSTAMP:20260424T085228
CREATED:20240923T203319Z
LAST-MODIFIED:20241001T185116Z
UID:499-1729769400-1729773000@mokuyo53.org
SUMMARY:メディケア2025年最新情報
DESCRIPTION:【10月24日開催】もうすぐ毎年恒例のメディケア・アドバンテージプランの見直し・加入・変更期間がやってきます。メディケアの基本、来年度の新しいルールなど、ややこしいメディケアのことを分かりやすくご説明します。\n			\n			\n				\n				\n				\n				\n			\n				\n				\n				\n				\n				\n				\n				\n				\n				\n				\n				ワシントン智子\n保険コンサルタント\nハワイ在住25年、神奈川県出身。2008年から保険コンサルタントに。メディケア、生命保険、長期介護保険、重大疾病保険、個人年金、他、多数の保険会社を取り扱い。 \n			\n			\n				\n				\n				\n				\n				\n				\n				\n				\n				\n				\n			\n			\n				\n				\n				\n				\n			\n				\n				\n				\n				\n				\n				\n				イベントカレンダー\n			\n			\n				\n				\n				\n				\n			\n				\n				\n			\n				\n				\n				\n				\n				\n				\n				\n				\n				\n				\n				\n				\n				\n				\n				\n				\n				\n				セミナー・スケジュール\n			\n			\n				\n				\n				\n				\n			\n				\n				\n				\n				\n				\n				\n				\n				\n				\n				\n				11:00 am\n			\n			\n				\n				\n				\n				\n				\n				\n				\n				\n				\n				Check-In\n \n			\n			\n				\n				\n				\n				\n				\n				\n				\n				\n				\n				２階セミナー会場にて参加者の受付を開始します。（エレベーター有）\n			\n			\n				\n				\n				\n				\n			\n				\n				\n				\n				\n				\n				\n				\n				\n				\n				\n				11:25 am\n			\n			\n				\n				\n				\n				\n				\n				\n				\n				\n				\n				Welcome\n			\n			\n				\n				\n				\n				\n				\n				\n				\n				\n				\n				開始のご挨拶、並びに木曜午餐会「オリジナルソング」合唱。\n			\n			\n				\n				\n				\n				\n			\n				\n				\n				\n				\n				\n				\n				\n				\n				\n				\n				11:30 am\n			\n			\n				\n				\n				\n				\n				\n				\n				\n				\n				\n				Introduction\n			\n			\n				\n				\n				\n				\n				\n				\n				\n				\n				\n				講演者の経歴、人物紹介を司会よりご案内\n			\n			\n				\n				\n				\n				\n			\n				\n				\n				\n				\n				\n				\n				\n				\n				\n				\n				11:35 am\n			\n			\n				\n				\n				\n				\n				\n				\n				\n				\n				\n				Start\n			\n			\n				\n				\n				\n				\n				\n				\n				\n				\n				\n				当日のトピックSTART、講演者セミナーの開始\n			\n			\n				\n				\n				\n				\n			\n				\n				\n				\n				\n				\n				\n				\n				\n				\n				\n				12:30 pm\n			\n			\n				\n				\n				\n				\n				\n				\n				\n				\n				\n				Finish\n			\n			\n				\n				\n				\n				\n				\n				\n				\n				\n				\n				セミナー完結、質疑応答の時間\n			\n			\n				\n				\n				\n				\n			\n				\n				\n				\n				\n				\n				\n				\n				\n				\n				\n				12:40 PM\n			\n			\n				\n				\n				\n				\n				\n				\n				\n				\n				\n				Farewell\n			\n			\n				\n				\n				\n				\n				\n				\n				\n				\n				\n				講演者への感謝、木曜午餐会実行委員会より次回セミナーに関するご案内、お別れのご挨拶\n			\n			\n				\n				\n				\n				\n			\n				\n				\n				\n				\n				\n				\n				イベントカレンダー
URL:https://mokuyo53.org/en/event/%e3%83%a1%e3%83%87%e3%82%a3%e3%82%b1%e3%82%a22025%e5%b9%b4/
LOCATION:マキキ教会\, 829 Pensacola St\, Honolulu\, Hawaii\, 96814\, 米国
ATTACH;FMTTYPE=image/jpeg:https://mokuyo53.org/wp-content/uploads/2024/09/Tomoko_washington.jpg
END:VEVENT
BEGIN:VEVENT
DTSTART;TZID=Pacific/Honolulu:20241010T113000
DTEND;TZID=Pacific/Honolulu:20241010T123000
DTSTAMP:20260424T085228
CREATED:20240925T224927Z
LAST-MODIFIED:20241004T210413Z
UID:566-1728559800-1728563400@mokuyo53.org
SUMMARY:私が取り組む農業法人
DESCRIPTION:【10月10日開催】おひさまファームズLLC代表、私が取り組む農業法人。\n			\n			\n				\n				\n				\n				\n			\n				\n				\n				\n				\n				\n				\n				\n				\n				\n				\n				山根英樹\nおひさまファームズ代表\nカリフォルニア州サンフランシスコで出生。5歳で家族と共に東京へ。その後、都内の広告代理店、ニューヨークの大手旅行代理店、豪州クィーンズランド州政府、ハワイ州政府農務省、ロンドンの経営大学院、ハワイの大手銀行勤務を経て現在は個人で経営コンサルティング会社を経営する傍らハワイで農業および不動産業に従事。2013年よりホノルル在住。ロンドン・ビジネス・スクール経営修士、日本大学大学院博士前期課程修了。ジェトロ認定貿易アドバイザー、日本貿易学会正会員。主な著書に『小さな会社でもできる海外取引』『グローバル職人になろう』『漂流アロハ』などがある。現在小笠原に入植したハワイ人女性たちをテーマにしたノンフィクション小説、コーヒー貿易や帰米二世に関する本を執筆中。\n			\n			\n				\n				\n				\n				\n				\n				\n				\n				\n				\n				\n			\n			\n				\n				\n				\n				\n			\n				\n				\n				\n				\n				\n				\n				イベントカレンダー\n			\n			\n				\n				\n				\n				\n			\n				\n				\n			\n				\n				\n				\n				\n				\n				\n				\n				\n				\n				\n				\n				\n				\n				\n				\n				\n				\n				セミナー・スケジュール\n			\n			\n				\n				\n				\n				\n			\n				\n				\n				\n				\n				\n				\n				\n				\n				\n				\n				11:00 am\n			\n			\n				\n				\n				\n				\n				\n				\n				\n				\n				\n				Check-In\n \n			\n			\n				\n				\n				\n				\n				\n				\n				\n				\n				\n				２階セミナー会場にて参加者の受付を開始します。（エレベーター有）\n			\n			\n				\n				\n				\n				\n			\n				\n				\n				\n				\n				\n				\n				\n				\n				\n				\n				11:25 am\n			\n			\n				\n				\n				\n				\n				\n				\n				\n				\n				\n				Welcome\n			\n			\n				\n				\n				\n				\n				\n				\n				\n				\n				\n				開始のご挨拶、並びに木曜午餐会「オリジナルソング」合唱。\n			\n			\n				\n				\n				\n				\n			\n				\n				\n				\n				\n				\n				\n				\n				\n				\n				\n				11:30 am\n			\n			\n				\n				\n				\n				\n				\n				\n				\n				\n				\n				Introduction\n			\n			\n				\n				\n				\n				\n				\n				\n				\n				\n				\n				講演者の経歴、人物紹介を司会よりご案内\n			\n			\n				\n				\n				\n				\n			\n				\n				\n				\n				\n				\n				\n				\n				\n				\n				\n				11:35 am\n			\n			\n				\n				\n				\n				\n				\n				\n				\n				\n				\n				Start\n			\n			\n				\n				\n				\n				\n				\n				\n				\n				\n				\n				当日のトピックSTART、講演者セミナーの開始\n			\n			\n				\n				\n				\n				\n			\n				\n				\n				\n				\n				\n				\n				\n				\n				\n				\n				12:30 pm\n			\n			\n				\n				\n				\n				\n				\n				\n				\n				\n				\n				Finish\n			\n			\n				\n				\n				\n				\n				\n				\n				\n				\n				\n				セミナー完結、質疑応答の時間\n			\n			\n				\n				\n				\n				\n			\n				\n				\n				\n				\n				\n				\n				\n				\n				\n				\n				12:40 PM\n			\n			\n				\n				\n				\n				\n				\n				\n				\n				\n				\n				Farewell\n			\n			\n				\n				\n				\n				\n				\n				\n				\n				\n				\n				講演者への感謝、木曜午餐会実行委員会より次回セミナーに関するご案内、お別れのご挨拶\n			\n			\n				\n				\n				\n				\n			\n				\n				\n				\n				\n				\n				\n				イベントカレンダー
URL:https://mokuyo53.org/en/event/%e7%a7%81%e3%81%8c%e5%8f%96%e3%82%8a%e7%b5%84%e3%82%80%e8%be%b2%e6%a5%ad%e6%b3%95%e4%ba%ba/
LOCATION:マキキ教会\, 829 Pensacola St\, Honolulu\, Hawaii\, 96814\, 米国
ATTACH;FMTTYPE=image/jpeg:https://mokuyo53.org/wp-content/uploads/2024/09/山根-英樹_木曜午餐会ハワイ_セミナー.jpg
END:VEVENT
BEGIN:VEVENT
DTSTART;TZID=Pacific/Honolulu:20240926T113000
DTEND;TZID=Pacific/Honolulu:20240926T123000
DTSTAMP:20260424T085228
CREATED:20240923T212104Z
LAST-MODIFIED:20240924T191211Z
UID:533-1727350200-1727353800@mokuyo53.org
SUMMARY:腰痛・膝痛に効くセルフケア: ツボと運動
DESCRIPTION:【09月26日開催】（用田接骨院）渡邊英一、（松本鍼灸整骨院）松本寛正、（ピラティストレーナー）井原隆雄 \n今回は日本からいろいろな専門家の先生３名がいらしてくださっています。まずは木曜午餐会でのお話が今回で４回目という渡辺英一先生をご紹介します。渡辺先生は1982年より、神奈川県藤沢市で「用田接骨院」を開業。柔道整復師（じゅうどうせいふくし）として長年患者さんの治療に関わるうちに、足の健康状態が体の健康に大きく左右している事に注目されました。 \n2003年には、オーストラリアの大学で足治療（あしちりょう）専門の研修を受け、その後は東洋医学と西洋医学を融合した独自の診療方法で効果をあげ、足治療の第一人者\nとして活躍中です。先生はハワイにおける日系人の高齢化が進む現状や、健康に不安を抱える方が多く居ることを知り、その方々の力になりたいと、５年前からホノルルで、健康ワークショップを開いていらっしゃいます。 \n2022年には、先生の長年の学術活動が高く評価され、公益社団法人日本柔道整復師会の最高栄誉である、帰一学術賞（きいちがくじゅつしょう）を受賞されました。本日は\n奥様のゆきえさんとお嬢様の高橋恵実（めぐみ）さんが、講座のアシストにご同行くださっています。また当日は、渡辺先生の他に、お二人の先生方においでいただいています。福岡からは、柔道整復師、鍼灸師（しんきゅうし）、スポーツトレーナーでいらっしゃる松本寛正（ひろまさ）先生が駆けつけてくださいました。松本先生は去年もハワイで渡辺先生と健康講座のボランティア活動をされ、先生のツボ療法が大評判となりました。地元福岡では、ポール歩行の講座も開いていらっしゃいます。さらに今年は新しく、ピラティス\nのトレーナーでもあり、オレゴン州立大学公衆衛生学士でもいらっしゃる若手のホープ、井原隆雄（たかお）先生がお越しくださり、ピラティスの実技もご指導くださいます。 \n当日は、腰痛・膝痛（ひざつう）を自分で上手にケアする方法をそれぞれの先生方の専門分野から実技中心にご紹介していただきます。\n			\n			\n				\n				\n				\n				\n			\n				\n				\n				\n				\n				\n				\n				\n				\n				\n				\n				渡邊英一\n協会代表理事\n1951年生。藤沢市用田接骨院院長/Foot Health Laboratory代表。長年に渡る柔道整復師としての臨床経験から、「足の機能」と「体の健康」の密接な関連に気づき、2003年にオーストラリアで足病医学を学ぶ。帰国後は、診療にバイオメカニクス検査を導入し、医療インソールの開発、柔道の技法を取り入れた歩行ポールの考案など、数多くの創意工夫を行い、足治療の第一人者として活躍。モットーは「健康は、自分で作る」。2022年公益社団法人日本柔道師会最高栄誉「帰一学術賞」受賞。一般社団法人日本フットヘルス協会代表理事・日本柔道整復接骨医学会認定柔道整復師・講道館柔道6段教師 \n			\n			\n				\n				\n				\n				\n				\n				\n				\n				\n				\n				\n			\n			\n				\n				\n				\n				\n			\n				\n				\n				\n				\n				\n				\n				\n				\n				\n				\n				松本寛正\n院長\n福岡県柳川市松本鍼灸整骨院院長。柔道整復師、鍼灸師、スポーツトレーナー・JFHA認定足整療法士。先生は、体の疲労や不調をツボ治療により改善し、セルフケアを多くの方に指導を行っている。また、運動指導としてポール歩行を有明海の海苔漁師に行い定評がある。\n			\n			\n				\n				\n				\n				\n				\n				\n				\n				\n				\n				\n			\n			\n				\n				\n				\n				\n			\n				\n				\n				\n				\n				\n				\n				\n				\n				\n				\n				井原隆雄\n公衆衛生学士\n愛知県出身。オレゴン州立大学公衆衛生学士。ピラティストレーナー。 英会話講師。インナーマッスルを鍛えることで、背骨や骨盤の歪みを改善し、健康体質に導く指導をしている若手のホープ。\n			\n			\n				\n				\n				\n				\n				\n				\n				\n				\n				\n				\n			\n			\n				\n				\n				\n				\n			\n				\n				\n				\n				\n				\n				\n				イベントカレンダー
URL:https://mokuyo53.org/en/event/%e8%85%b0%e7%97%9b_%e8%86%9d%e7%97%9b_%e3%82%bb%e3%83%ab%e3%83%95%e3%82%b1%e3%82%a2/
LOCATION:マキキ教会\, 829 Pensacola St\, Honolulu\, Hawaii\, 96814\, 米国
ATTACH;FMTTYPE=image/jpeg:https://mokuyo53.org/wp-content/uploads/2024/09/腰痛_膝痛に効くセルフケア_ツボと運動_渡邊英一_松本寛正_井原隆雄.jpg
END:VEVENT
BEGIN:VEVENT
DTSTART;TZID=Pacific/Honolulu:20240912T113000
DTEND;TZID=Pacific/Honolulu:20240912T123000
DTSTAMP:20260424T085228
CREATED:20240828T012057Z
LAST-MODIFIED:20240923T200752Z
UID:190-1726140600-1726144200@mokuyo53.org
SUMMARY:北朝鮮の旅
DESCRIPTION:テキストテストテキストテストテキストテストテキストテストテキストテストテキストテストテキストテストテキストテストテキストテストテキストテストテキストテストテキストテストテキストテストテキストテストテキストテストテキストテストテキストテストテキストテストテキストテストテキストテストテキストテストテキストテストテキストテストテキストテストテキストテストテキストテスト\n			\n			\n				\n				\n				\n				\n			\n				\n				\n				\n				\n				\n				\n				\n				\n				\n				\n				アロハ花子\n名誉教授【アロハ大学】\n紹介テキスト紹介テキスト紹介テキスト紹介テキスト紹介テキスト紹介テキスト紹介テキスト紹介テキスト紹介テキスト紹介テキスト紹介テキスト紹介テキスト紹介テキスト紹介テキスト紹介テキスト紹介テキスト紹介テキスト紹介テキスト紹介テキスト紹介テキスト紹介テキスト紹介テキスト紹介テキスト紹介テキスト紹介テキスト \n			\n			\n				\n				\n				\n				\n				\n				\n				\n				\n				\n				\n			\n			\n				\n				\n				\n				\n			\n				\n				\n			\n				\n				\n				\n				\n				\n				\n				\n				\n				\n				\n				\n				\n				\n				\n				\n				\n				\n				セミナー・スケジュール\n			\n			\n				\n				\n				\n				\n			\n				\n				\n				\n				\n				\n				\n				\n				\n				\n				\n				11:00 am\n			\n			\n				\n				\n				\n				\n				\n				\n				\n				\n				\n				Check-In\n \n			\n			\n				\n				\n				\n				\n				\n				\n				\n				\n				\n				２階セミナー会場にて参加者の受付を開始します。（エレベーター有）\n			\n			\n				\n				\n				\n				\n			\n				\n				\n				\n				\n				\n				\n				\n				\n				\n				\n				11:25 am\n			\n			\n				\n				\n				\n				\n				\n				\n				\n				\n				\n				Welcome\n			\n			\n				\n				\n				\n				\n				\n				\n				\n				\n				\n				開始のご挨拶、並びに木曜午餐会「オリジナルソング」合唱。\n			\n			\n				\n				\n				\n				\n			\n				\n				\n				\n				\n				\n				\n				\n				\n				\n				\n				11:30 am\n			\n			\n				\n				\n				\n				\n				\n				\n				\n				\n				\n				Introduction\n			\n			\n				\n				\n				\n				\n				\n				\n				\n				\n				\n				講演者の経歴、人物紹介を司会よりご案内\n			\n			\n				\n				\n				\n				\n			\n				\n				\n				\n				\n				\n				\n				\n				\n				\n				\n				11:35 am\n			\n			\n				\n				\n				\n				\n				\n				\n				\n				\n				\n				Start\n			\n			\n				\n				\n				\n				\n				\n				\n				\n				\n				\n				当日のトピックSTART、講演者セミナーの開始\n			\n			\n				\n				\n				\n				\n			\n				\n				\n				\n				\n				\n				\n				\n				\n				\n				\n				12:30 pm\n			\n			\n				\n				\n				\n				\n				\n				\n				\n				\n				\n				Finish\n			\n			\n				\n				\n				\n				\n				\n				\n				\n				\n				\n				セミナー完結、質疑応答の時間\n			\n			\n				\n				\n				\n				\n			\n				\n				\n				\n				\n				\n				\n				\n				\n				\n				\n				12:40 PM\n			\n			\n				\n				\n				\n				\n				\n				\n				\n				\n				\n				Farewell\n			\n			\n				\n				\n				\n				\n				\n				\n				\n				\n				\n				講演者への感謝、木曜午餐会実行委員会より次回セミナーに関するご案内、お別れのご挨拶\n			\n			\n				\n				\n				\n				\n			\n				\n				\n				\n				\n				\n				\n				イベントカレンダー
URL:https://mokuyo53.org/en/event/%e5%8c%97%e6%9c%9d%e9%ae%ae%e3%81%ae%e6%97%85/
LOCATION:マキキ教会\, 829 Pensacola St\, Honolulu\, Hawaii\, 96814\, 米国
ATTACH;FMTTYPE=image/jpeg:https://mokuyo53.org/wp-content/uploads/2024/08/木曜午餐会2024年役員.jpg
END:VEVENT
END:VCALENDAR