BEGIN:VCALENDAR
VERSION:2.0
PRODID:-//木曜午餐会ハワイセミナー主催団体 - ECPv6.15.20//NONSGML v1.0//EN
CALSCALE:GREGORIAN
METHOD:PUBLISH
X-WR-CALNAME:木曜午餐会ハワイセミナー主催団体
X-ORIGINAL-URL:https://mokuyo53.org/en
X-WR-CALDESC:Events for 木曜午餐会ハワイセミナー主催団体
REFRESH-INTERVAL;VALUE=DURATION:PT1H
X-Robots-Tag:noindex
X-PUBLISHED-TTL:PT1H
BEGIN:VTIMEZONE
TZID:Pacific/Honolulu
BEGIN:STANDARD
TZOFFSETFROM:-1000
TZOFFSETTO:-1000
TZNAME:HST
DTSTART:20250101T000000
END:STANDARD
END:VTIMEZONE
BEGIN:VEVENT
DTSTART;TZID=Pacific/Honolulu:20260108T113000
DTEND;TZID=Pacific/Honolulu:20260108T123000
DTSTAMP:20260423T102055
CREATED:20260108T063921Z
LAST-MODIFIED:20260108T202140Z
UID:1252-1767871800-1767875400@mokuyo53.org
SUMMARY:【謹賀新年】新年会＆スペシャルゲストによる談話会を開催！
DESCRIPTION:新年あけましておめでとうございます。 皆様におかれましては、輝かしい新春をお迎えのこととお慶び申し上げます。さて、木曜午餐会では、1月8日（木）に2026年の幕開けを飾る「新年会」を開催いたします！ \n今回は新年特別企画として、スペシャルゲストをお招きしての談話会に加え、ハワイならではの味覚を詰め込んだ「新春・昼食ビュッフェ」をご用意いたしました。今年の目玉は、なんとアワビフライ！ その他、ジューシーな唐揚げや、どこか懐かしい沖縄風焼きそばなど、ボリューム満点のメニューで皆様をおもてなしいたします。 \n美味しいお食事を囲みながら、会員の皆様、そして地域の皆様と、笑顔あふれる楽しいひとときを過ごしませんか？ 皆様のご参加を心よりお待ちしております。 \n新春・昼食ビュッフェ メニュー\n\n豪華！アワビフライ\nジューシー唐揚げチキン\nホクホク ポテトコロッケ\n脂の乗った サバ焼き\n風味豊かな 沖縄風焼きそば\n\n【参加費】\n■会員：$10■一般：$15 \n※準備の都合上、お早めにお越しいただけますと幸いです。 皆様にお会いできることを楽しみにしております！ \n			\n			\n				\n				\n				\n				\n			\n				\n				\n			\n				\n				\n				\n				\n				\n				\n				\n				\n				\n				\n				\n				\n				\n				\n				\n				\n				\n				\n			\n			\n				\n				\n				\n				\n			\n				\n				\n				\n				\n				\n				\n				イベントカレンダー
URL:https://mokuyo53.org/en/event/newyear2026/
LOCATION:マキキ教会\, 829 Pensacola St\, Honolulu\, Hawaii\, 96814\, 米国
ATTACH;FMTTYPE=image/webp:https://mokuyo53.org/wp-content/uploads/2026/01/newyear2026_mokuyo53.webp
END:VEVENT
BEGIN:VEVENT
DTSTART;TZID=Pacific/Honolulu:20260122T113000
DTEND;TZID=Pacific/Honolulu:20260122T123000
DTSTAMP:20260423T102055
CREATED:20260108T202906Z
LAST-MODIFIED:20260108T202912Z
UID:1265-1769081400-1769085000@mokuyo53.org
SUMMARY:マイクを握って新年のご挨拶！「オープンマイク」と会の未来を考える「会員集会」
DESCRIPTION:木曜午餐会会員の皆様 \n先日の新年会にご参加いただいた皆様、誠にありがとうございました。さて、新年第2弾となる1月22日の木曜午餐会は、会員の皆様お一人おひとりが主役となる参加型企画「オープンマイク」と、私たちの会の「これから」について話し合う非常に重要な「会員集会」の二本立てで開催いたします。 \n前半：新春オープンマイク（各2～3分）\n新年の幕開けに、会員の皆様でマイクをリレーしましょう！お一人様 2～3分程度で、壇上にて自由にお話しいただく時間です。 新年の抱負、年末年始の面白エピソード、最近のニュース、あるいは一発芸（？）など、内容は自由です。普段なかなかお話しする機会のない会員様同士、互いの近況を知り、親睦を深める楽しい時間にしたいと思います。ぜひ気軽にご参加ください。 \n後半：会員集会（今後の運営について）\n後半は、木曜午餐会を今後も末永く続けていくための重要な話し合いの場とさせていただきます。現在直面している課題と、今後の方向性について共有し、皆様のご理解とご協力を仰ぎたいと思います。 \n【主な議題】\n\nボランティアスタッフの募集 会の運営は皆様のボランティアによって支えられています。当日の受付、設営、企画など、少しの時間でもお手伝いいただける方を募集します。\n新・会計担当者の急募 会の財政を管理する重要な役割です。数字に強い方、責任感のある方のご応募を心よりお待ちしております。（引継ぎサポートいたします）\n今後の運営方針について より魅力的な会にしていくための意見交換を行います。\n【重要】会場賃貸料の上昇と年会費改定のご相談 昨今の物価上昇の影響を受け、現在の会場の賃貸料が値上がりしております。会の健全な運営を維持するため、誠に心苦しいのですが、年会費の改定（値上げ）の必要性とその時期・金額についてご説明、ご相談させていただきます。\n\n			\n			\n				\n				\n				\n				\n			\n				\n				\n			\n				\n				\n				\n				\n				\n				\n				\n				\n				\n				\n				\n				\n				\n				\n				\n				\n				\n				\n			\n			\n				\n				\n				\n				\n			\n				\n				\n				\n				\n				\n				\n				イベントカレンダー
URL:https://mokuyo53.org/en/event/openmic_2026/
LOCATION:マキキ教会\, 829 Pensacola St\, Honolulu\, Hawaii\, 96814\, 米国
ATTACH;FMTTYPE=image/webp:https://mokuyo53.org/wp-content/uploads/2026/01/mokuyo53_member_mtg.webp
END:VEVENT
BEGIN:VEVENT
DTSTART;TZID=Pacific/Honolulu:20260212T113000
DTEND;TZID=Pacific/Honolulu:20260212T123000
DTSTAMP:20260423T102055
CREATED:20260211T192312Z
LAST-MODIFIED:20260310T185812Z
UID:1280-1770895800-1770899400@mokuyo53.org
SUMMARY:1920年代のハワイと日本人：日本語学校をめぐる裁判と奥村多喜衛先生
DESCRIPTION:【12月12日開催】1920年代のハワイでは、外国語学校に対する規制が強化されました。これは、実質的には日本語学校への規制がねらいであったと言っても良いでしょう。1920年〜30年という時代は、日本人移民とその子孫が、ハワイの全人口の４割前後を占めるようになっていました。大勢力となった日本人が、なかなか同化せず、むしろ独自のコミュニティを形成していることへの警戒感が生じました。日本語学校への規制は、その日本人たちの結集の核となっていると映った日本語学校に規制を加え、よりハワイ、ないしアメリカに同化させようというねらいがあったのだといえます。 \nより支配的な立場にある者が「他者」を同化させる、というのは、さまざまな意味で暴力的な意味合いを持ってしまいかねないことです。しかし、ハワイで生きる1920年代の日本人は、自らのアイデンティティや文化を保とうとする一方で、ハワイの社会に何らかの形で順応していくことが、生き延びる戦略としても必要になります。このように「同化」は、どちらの立場から見ても、そう簡単な問題ではありません。 \n奥村多喜衛は、日本人移民がハワイ、ないしはアメリカに、より積極的に「同化」する方向で、発言を行い、活動を展開しました。そして、これまで、ハワイにおける日本語学校の歴史のなかで、実はこの奥村のことが忘れられがちでした。その理由は、おそらく、日本語学校の主流は、準州政府による規制に反対し、裁判を起こし、そしてその規制が憲法違反であるとの判決を勝ち取ったことへの自負があり、それが歴史叙述にも影を落としたのだと考えられます。 \nしかし、今、アメリカでも日本でも、この「同化」に関わって、看過できない発言、動きが起こっており、思想的にも危うい状態を迎えているように思います。今を考えるための手がかりを探すためにも、一度、歴史に立ち返り、今までとは違う角度でこれを見直してみたいと思います。\n			\n				\n					\n					\n					\n				\n				\n					\n					\n					\n				\n				\n			\n				\n				\n				\n				\n			\n				\n				\n				\n				\n				\n				\n				\n				\n				\n				\n				原山浩介\n京都大学大学院農学研究科【教授】Ph.D\n■2005〜2021 国立歴史民俗博物館\n（2019年に企画展示「ハワイ：日本人移民の150年と憧れの島のなりたち」展示代表）\n■2021〜2025 日本大学法学部\n■2025〜　京都大学農学研究科 \n京都大学大学院：公式HP\n			\n				セミナー資料PDF版\n			\n			\n				\n				\n				\n				\n				\n				\n				\n				\n				\n				\n			\n				\n				\n				\n				\n				プロフィール\n元々、現代史の研究をしてきました。その中で、「移民」という題材と、ハワイという場所に取り憑かれ、2015年〜16年にかけて資料調査のため5ヶ月ほど滞在し、2019年には勤務先の国立歴史民俗博物館でハワイの移民史についての企画展示「ハワイ：日本人移民の150年と憧れの島のなりたち」を開催しました。 \n今、ハワイ大学で開催されている日本語教科書の展示に関わっています。奥村先生が関わって作られた日本語教科書も取り上げています。私自身は、ハワイの労働問題や社会運動の歴史について研究をしたいのですが、膨大な資料を撮影したまま、なかなか時間を作ることができません。なんとか時間を作って、取り組みたいと思っています。\n			\n			\n				\n				\n				\n				\n			\n				\n				\n				\n				\n				\n				\n				イベントカレンダー\n			\n			\n				\n				\n				\n				\n			\n				\n				\n			\n				\n				\n				\n				\n				\n				\n				\n				\n				\n				\n				\n				\n				\n				\n				\n				\n				\n				セミナー・スケジュール\n			\n			\n				\n				\n				\n				\n			\n				\n				\n				\n				\n				\n				\n				\n				\n				\n				\n				11:00 am\n			\n			\n				\n				\n				\n				\n				\n				\n				\n				\n				\n				Check-In\n \n			\n			\n				\n				\n				\n				\n				\n				\n				\n				\n				\n				２階セミナー会場にて参加者の受付を開始します。（エレベーター有）\n			\n			\n				\n				\n				\n				\n			\n				\n				\n				\n				\n				\n				\n				\n				\n				\n				\n				11:25 am\n			\n			\n				\n				\n				\n				\n				\n				\n				\n				\n				\n				Welcome\n			\n			\n				\n				\n				\n				\n				\n				\n				\n				\n				\n				開始のご挨拶、並びに木曜午餐会「オリジナルソング」合唱。\n			\n			\n				\n				\n				\n				\n			\n				\n				\n				\n				\n				\n				\n				\n				\n				\n				\n				11:30 am\n			\n			\n				\n				\n				\n				\n				\n				\n				\n				\n				\n				Introduction\n			\n			\n				\n				\n				\n				\n				\n				\n				\n				\n				\n				講演者の経歴、人物紹介を司会よりご案内\n			\n			\n				\n				\n				\n				\n			\n				\n				\n				\n				\n				\n				\n				\n				\n				\n				\n				11:35 am\n			\n			\n				\n				\n				\n				\n				\n				\n				\n				\n				\n				Start\n			\n			\n				\n				\n				\n				\n				\n				\n				\n				\n				\n				当日のトピックSTART、講演者セミナーの開始\n			\n			\n				\n				\n				\n				\n			\n				\n				\n				\n				\n				\n				\n				\n				\n				\n				\n				12:30 pm\n			\n			\n				\n				\n				\n				\n				\n				\n				\n				\n				\n				Finish\n			\n			\n				\n				\n				\n				\n				\n				\n				\n				\n				\n				セミナー完結、質疑応答の時間\n			\n			\n				\n				\n				\n				\n			\n				\n				\n				\n				\n				\n				\n				\n				\n				\n				\n				12:40 PM\n			\n			\n				\n				\n				\n				\n				\n				\n				\n				\n				\n				Farewell\n			\n			\n				\n				\n				\n				\n				\n				\n				\n				\n				\n				講演者への感謝、木曜午餐会実行委員会より次回セミナーに関するご案内、お別れのご挨拶\n			\n			\n				\n				\n				\n				\n			\n				\n				\n				\n				\n				\n				\n				イベントカレンダー
URL:https://mokuyo53.org/en/event/takie-okumura-japanese-school-history/
LOCATION:マキキ教会\, 829 Pensacola St\, Honolulu\, Hawaii\, 96814\, 米国
ATTACH;FMTTYPE=image/webp:https://mokuyo53.org/wp-content/uploads/2026/02/Kosuke-HARAYAMA_PhD.webp
END:VEVENT
BEGIN:VEVENT
DTSTART;TZID=Pacific/Honolulu:20260226T113000
DTEND;TZID=Pacific/Honolulu:20260226T123000
DTSTAMP:20260423T102055
CREATED:20260226T071810Z
LAST-MODIFIED:20260226T071816Z
UID:1300-1772105400-1772109000@mokuyo53.org
SUMMARY:メディケア最新情報＆質疑応答
DESCRIPTION:【02月26日開催】ハワイでのメディケア加入者が知っておきたい最新情報をシェアします。その後は質疑応答。メディケアに関する疑問や質問にお答えします。\n			\n			\n				\n				\n				\n				\n			\n				\n				\n				\n				\n				\n				\n				\n				\n				\n				\n				ワシントン智子\n保険コンサルタント\nハワイ在住25年、神奈川県出身。2008年から保険コンサルタントに。メディケア、生命保険、長期介護保険、重大疾病保険、個人年金、他、多数の保険会社を取り扱い。 \nPremier Benefit Consultants：公式HP\n			\n			\n				\n				\n				\n				\n				\n				\n				\n				\n				\n				\n			\n				\n				\n				\n				\n				シニア向けの健康保険でありながら、毎年色々と変化し、理解するのが難しいメディケア。 メディケアのことなら、確かな知識で分かりやすく親身にサポートする保険コンサルタントのワシントン智子が、最近のハワイでのメディケアに関する動向や対策を簡単にご説明します。\n			\n			\n				\n				\n				\n				\n			\n				\n				\n				\n				\n				\n				\n				イベントカレンダー\n			\n			\n				\n				\n				\n				\n			\n				\n				\n			\n				\n				\n				\n				\n				\n				\n				\n				\n				\n				\n				\n				\n				\n				\n				\n				\n				\n				セミナー・スケジュール\n			\n			\n				\n				\n				\n				\n			\n				\n				\n				\n				\n				\n				\n				\n				\n				\n				\n				11:00 am\n			\n			\n				\n				\n				\n				\n				\n				\n				\n				\n				\n				Check-In\n \n			\n			\n				\n				\n				\n				\n				\n				\n				\n				\n				\n				２階セミナー会場にて参加者の受付を開始します。（エレベーター有）\n			\n			\n				\n				\n				\n				\n			\n				\n				\n				\n				\n				\n				\n				\n				\n				\n				\n				11:25 am\n			\n			\n				\n				\n				\n				\n				\n				\n				\n				\n				\n				Welcome\n			\n			\n				\n				\n				\n				\n				\n				\n				\n				\n				\n				開始のご挨拶、並びに木曜午餐会「オリジナルソング」合唱。\n			\n			\n				\n				\n				\n				\n			\n				\n				\n				\n				\n				\n				\n				\n				\n				\n				\n				11:30 am\n			\n			\n				\n				\n				\n				\n				\n				\n				\n				\n				\n				Introduction\n			\n			\n				\n				\n				\n				\n				\n				\n				\n				\n				\n				講演者の経歴、人物紹介を司会よりご案内\n			\n			\n				\n				\n				\n				\n			\n				\n				\n				\n				\n				\n				\n				\n				\n				\n				\n				11:35 am\n			\n			\n				\n				\n				\n				\n				\n				\n				\n				\n				\n				Start\n			\n			\n				\n				\n				\n				\n				\n				\n				\n				\n				\n				当日のトピックSTART、講演者セミナーの開始\n			\n			\n				\n				\n				\n				\n			\n				\n				\n				\n				\n				\n				\n				\n				\n				\n				\n				12:30 pm\n			\n			\n				\n				\n				\n				\n				\n				\n				\n				\n				\n				Finish\n			\n			\n				\n				\n				\n				\n				\n				\n				\n				\n				\n				セミナー完結、質疑応答の時間\n			\n			\n				\n				\n				\n				\n			\n				\n				\n				\n				\n				\n				\n				\n				\n				\n				\n				12:40 PM\n			\n			\n				\n				\n				\n				\n				\n				\n				\n				\n				\n				Farewell\n			\n			\n				\n				\n				\n				\n				\n				\n				\n				\n				\n				講演者への感謝、木曜午餐会実行委員会より次回セミナーに関するご案内、お別れのご挨拶\n			\n			\n				\n				\n				\n				\n			\n				\n				\n				\n				\n				\n				\n				イベントカレンダー
URL:https://mokuyo53.org/en/event/medicar_2026/
LOCATION:マキキ教会\, 829 Pensacola St\, Honolulu\, Hawaii\, 96814\, 米国
ATTACH;FMTTYPE=image/jpeg:https://mokuyo53.org/wp-content/uploads/2024/09/Tomoko_washington.jpg
END:VEVENT
BEGIN:VEVENT
DTSTART;TZID=Pacific/Honolulu:20260312T113000
DTEND;TZID=Pacific/Honolulu:20260312T123000
DTSTAMP:20260423T102055
CREATED:20260310T065229Z
LAST-MODIFIED:20260311T201715Z
UID:1385-1773315000-1773318600@mokuyo53.org
SUMMARY:美味しい、美しい、楽しい高知！！【江口静子】
DESCRIPTION:【03月12日】今年、２０２６年３月２５日の、市郡、N a Pueo mIni Park で行われる、高知より送られた日本さくらの植樹式には、畠中県議、高知県国際文化交流課の百田課長補佐もおいでくださることになり、ハワイ総領事、長徳様もおむかえして、また、市会議員、DOS SANTOSーTAM　が主催でさらに、桜を通して、さらなる絆をつなげててまりたいとおもっております。木曜午餐かいさまとも、桜が結ぶご縁で本来ならば、３月２６日木曜午餐会にて百田課長代理、畠中県議が本日のセミナーをとりおこなうことになっておりましたが。あいにくKUHIO DAYとかさなりましたため、 \nきょうのセミナーを、県庁がおつくりになってくださった、POWER POINTと資料を基に、わたくしと訓江が実際に、何度も高知に足を運んで、舌で、目で、また現地に赴いて、五感でかんじとった、知れば知るほど、おいしい、美しい、楽しい高知の文化、歴史、また、素晴らしい、人達のお話を、私なりにさせていただきたいと思います。　よろしくおねがいもうしあげます。 \nPOWER　POINTをつかい、また、実際にHAND OUTもお渡し、高知産の人参サラダドレッシング、また、ミレービスケットもご試食いただき、五感で楽しんでいただける、セミナーをま座します。ただし最後に皆さんで僕らは皆生きているをうたっているところは、動画配信きんしですので、よろしくおねがいもうしあげます。 \n			\n			\n				\n				\n				\n				\n			\n				\n				\n				\n				\n				\n				\n				\n				\n				\n				\n				江口・静子・スー\nハワイ・サクラ・フアンデーション【理事】\n１９９３年よりハワイ最大級の自動車販売業者、TONY GROUPの創始者、政光トニー夫人である、政光訓江のEXECUTIVE ASSISTANT として、３３年勤務、現在は、SENIOR ADVISORとして、日系社会の皆様と、深い絆をたいせつにしてまいりました。また、２０１５年より紅茶インストラクターとして、政光訓江とともに、Sri Lanka、イギリス、中国へとキリン午後の紅茶で、アドバイザーとして有名な磯淵猛、茶研究家とともに紅茶の旅を重ね、昨年も、Sri Lankaへキリンの午後の紅茶のチームと楽しく、専門的な旅を訓江とさせていただきました。また、２０１８年には主婦ソサエティーさんのご尽力で領事館にて、和紅茶を広めるアフタヌーンTEAをFASHION　SHOWともに日本文化の推進として行わせていただきました。同時進行で、２０１１年よりは、日米桜寄贈１００周年を記念して、”ハワイに日本の桜を”を目指す、非営利団体を当時の高知牧野植物園、園長小山先生と立ち上げ、日本のシンボルともいえる桜を通して、ハワイと日本の文化交流のお手伝いを、政光訓江理事とともに、させていらいております。ハワイ桜基金：公式HP \n			\n			\n				\n				\n				\n				\n				\n				\n				\n				\n				\n				\n			\n				\n				\n				\n				\n				【ごあいさつ】TONY　GROUPの創始者のTONY　政光家がたまたま、高知の出身であったこと、また、周りにとても高知に縁のある方が集まること、また、小山先生が高知の牧野植物園からの亜熱帯の気候に向くであろう高知桜をハワイに難関を越えて、持ってきた下さったりと、桜のマジック（人の輪を作る、人を引き寄せる）力をかんじております。　２０２４年につづき、ハワイで植樹式を行うごとに、桜のご縁で、さらに、高知県との輪が更に広がっております。 \n			\n			\n				\n				\n				\n				\n			\n				\n				\n				\n				\n				\n				\n				イベントカレンダー\n			\n			\n				\n				\n				\n				\n			\n				\n				\n			\n				\n				\n				\n				\n				\n				\n				\n				\n				\n				\n				\n				\n				\n				\n				\n				\n				\n				セミナー・スケジュール\n			\n			\n				\n				\n				\n				\n			\n				\n				\n				\n				\n				\n				\n				\n				\n				\n				\n				11:00 am\n			\n			\n				\n				\n				\n				\n				\n				\n				\n				\n				\n				Check-In\n \n			\n			\n				\n				\n				\n				\n				\n				\n				\n				\n				\n				２階セミナー会場にて参加者の受付を開始します。（エレベーター有）\n			\n			\n				\n				\n				\n				\n			\n				\n				\n				\n				\n				\n				\n				\n				\n				\n				\n				11:25 am\n			\n			\n				\n				\n				\n				\n				\n				\n				\n				\n				\n				Welcome\n			\n			\n				\n				\n				\n				\n				\n				\n				\n				\n				\n				開始のご挨拶、並びに木曜午餐会「オリジナルソング」合唱。\n			\n			\n				\n				\n				\n				\n			\n				\n				\n				\n				\n				\n				\n				\n				\n				\n				\n				11:30 am\n			\n			\n				\n				\n				\n				\n				\n				\n				\n				\n				\n				Introduction\n			\n			\n				\n				\n				\n				\n				\n				\n				\n				\n				\n				講演者の経歴、人物紹介を司会よりご案内\n			\n			\n				\n				\n				\n				\n			\n				\n				\n				\n				\n				\n				\n				\n				\n				\n				\n				11:35 am\n			\n			\n				\n				\n				\n				\n				\n				\n				\n				\n				\n				Start\n			\n			\n				\n				\n				\n				\n				\n				\n				\n				\n				\n				当日のトピックSTART、講演者セミナーの開始\n			\n			\n				\n				\n				\n				\n			\n				\n				\n				\n				\n				\n				\n				\n				\n				\n				\n				12:30 pm\n			\n			\n				\n				\n				\n				\n				\n				\n				\n				\n				\n				Finish\n			\n			\n				\n				\n				\n				\n				\n				\n				\n				\n				\n				セミナー完結、質疑応答の時間\n			\n			\n				\n				\n				\n				\n			\n				\n				\n				\n				\n				\n				\n				\n				\n				\n				\n				12:40 PM\n			\n			\n				\n				\n				\n				\n				\n				\n				\n				\n				\n				Farewell\n			\n			\n				\n				\n				\n				\n				\n				\n				\n				\n				\n				講演者への感謝、木曜午餐会実行委員会より次回セミナーに関するご案内、お別れのご挨拶\n			\n			\n				\n				\n				\n				\n			\n				\n				\n				\n				\n				\n				\n				イベントカレンダー
URL:https://mokuyo53.org/en/event/%e7%be%8e%e5%91%b3%e3%81%97%e3%81%84_%e7%be%8e%e3%81%97%e3%81%84_%e6%a5%bd%e3%81%97%e3%81%84%e9%ab%98%e7%9f%a5/
LOCATION:マキキ教会\, 829 Pensacola St\, Honolulu\, Hawaii\, 96814\, 米国
ATTACH;FMTTYPE=image/webp:https://mokuyo53.org/wp-content/uploads/2026/03/江口静子.webp
END:VEVENT
BEGIN:VEVENT
DTSTART;TZID=Pacific/Honolulu:20260326T113000
DTEND;TZID=Pacific/Honolulu:20260326T123000
DTSTAMP:20260423T102055
CREATED:20260226T072148Z
LAST-MODIFIED:20260226T072153Z
UID:1310-1774524600-1774528200@mokuyo53.org
SUMMARY:祭日休館となります！【03月26日】
DESCRIPTION:【Mokuyo53会】祭日・休業とさせて頂きます。 \nご不便をおかけして申し訳ありませんが、何卒ご了承くださいますようお願い申し上げます。 \n次の講演日はイベントカレンダーにて随時更新されますのでこちら→をご確認ください \n			\n			\n				\n				\n				\n				\n			\n				\n				\n			\n				\n				\n				\n				\n				\n				\n				\n				\n				\n				\n				\n				\n				\n				\n				\n				\n				\n				\n			\n			\n				\n				\n				\n				\n			\n				\n				\n				\n				\n				\n				\n				イベントカレンダー
URL:https://mokuyo53.org/en/event/kuhio_day_2026/
LOCATION:マキキ教会\, 829 Pensacola St\, Honolulu\, Hawaii\, 96814\, 米国
ATTACH;FMTTYPE=image/png:https://mokuyo53.org/wp-content/uploads/2025/11/Mokuyo53休暇のお知らせ木曜午餐会.png
END:VEVENT
BEGIN:VEVENT
DTSTART;TZID=Pacific/Honolulu:20260327T113000
DTEND;TZID=Pacific/Honolulu:20260327T123000
DTSTAMP:20260423T102055
CREATED:20260304T200822Z
LAST-MODIFIED:20260310T065808Z
UID:1317-1774611000-1774614600@mokuyo53.org
SUMMARY:ニッケイの足あと、ことばの足あと・ハワイ多言語史を歩く【朝日祥之】
DESCRIPTION:【03月27日】19世紀末以降、ハワイには世界各地から多くの人びとが渡ってきました。人びとが持ち込んだことばは、ハワイ語やほかの移民のことばと出会い、世界的にもめずらしい「ことばの混ざり方」や変化を生み出してきました。さらに、ハワイを取り巻く政治や教育のあり方も影響し、ハワイの言語状況は今日に至るまで大きく姿を変えてきました。 \nこうしたハワイの経験は、多様化が進む社会で「ことばと共に生きる」ことを考えるうえで、多くのヒントを与えてくれます。本講演では、ハワイ大学マノア校ハミルトン図書館で開催中の企画展示「Rise and fall of languages in “Paradise”: Japanese schools\, community voices and the politics of assimilation in Hawaiʻi（『「楽園」におけることばの興亡：ハワイの日本語学校、コミュニティの声、同化をめぐる力学』）」も紹介しながら、皆さまと一緒にハワイのことばの魅力を味わっていきます。\n			\n			\n				\n				\n				\n				\n			\n				\n				\n				\n				\n				\n				\n				\n				\n				\n				\n				朝日祥之\n国立国語研究所【教授・PhD】\n国立国語研究所の朝日祥之（あさひ よしゆき）と申します。名古屋市生まれ、名古屋市育ちです。大学進学を機に大阪へ移り住んだ際、関西弁を身につけることの難しさと面白さに気づいたことが、ことばを研究するきっかけとなりました。2010年からは、ハワイに根付いてきた日本語に関心を持ち、毎年ハワイを訪れては、一世・二世の方々が使ってきた日本語について調べています。その研究の成果の一つが、現在ハワイ大学で開催されている展示『Rise and fall of languages in “Paradise”: Japanese schools\, community voices and the politics of assimilation in Hawaiʻi（『「楽園」におけることばの興亡：ハワイの日本語学校、コミュニティの声、同化をめぐる力学』）』です。講演では、この展示を企画・準備する過程で交わされた議論も紹介しながら、ハワイで使われてきたことばの歩み（運命）を一緒に見つめていきます。 \n国立国語研究所：公式HP \n			\n			\n				\n				\n				\n				\n				\n				\n				\n				\n				\n				\n			\n				\n				\n				\n				\n				経歴・所属団体\n\n1973年愛知県名古屋市生まれ\n1999年MA (Sociolinguistics) Department of Language and Linguistics University of Essex (UK)\n2004年大阪大学大学院文学研究科博士後期課程修了 博士（文学）\n2004年より2009年まで国立国語研究所情報資料部門・研究開発部門研究員\n2009年より2022年まで国立国語研究所研究系准教授\n2023年より国立国語研究所研究系教授\n研究分野：社会言語学、日本語学、変異理論、接触言語学、移民言語研究\n業績：Asahi\, Yoshiyuki\, Mayumi Usami\, and Fumio Inoue (eds.) Handbook of Japanese Sociolinguistics. Mouton de Gruyter (2022)\, 窪薗晴夫・朝日祥之（2022)「言語コミュニケーションの多様性」くろしお出版、朝日祥之・原山浩介（編）（2015）「アメリカ・ハワイ日系社会の歴史と言語文化」東京堂出版　朝日祥之（2012)「サハリンで生まれた日本語樺太方言」明治書院ほか\n\n			\n			\n				\n				\n				\n				\n			\n				\n				\n				\n				\n				\n				\n				イベントカレンダー\n			\n			\n				\n				\n				\n				\n			\n				\n				\n			\n				\n				\n				\n				\n				\n				\n				\n				\n				\n				\n				\n				\n				\n				\n				\n				\n				\n				セミナー・スケジュール\n			\n			\n				\n				\n				\n				\n			\n				\n				\n				\n				\n				\n				\n				\n				\n				\n				\n				11:00 am\n			\n			\n				\n				\n				\n				\n				\n				\n				\n				\n				\n				Check-In\n \n			\n			\n				\n				\n				\n				\n				\n				\n				\n				\n				\n				２階セミナー会場にて参加者の受付を開始します。（エレベーター有）\n			\n			\n				\n				\n				\n				\n			\n				\n				\n				\n				\n				\n				\n				\n				\n				\n				\n				11:25 am\n			\n			\n				\n				\n				\n				\n				\n				\n				\n				\n				\n				Welcome\n			\n			\n				\n				\n				\n				\n				\n				\n				\n				\n				\n				開始のご挨拶、並びに木曜午餐会「オリジナルソング」合唱。\n			\n			\n				\n				\n				\n				\n			\n				\n				\n				\n				\n				\n				\n				\n				\n				\n				\n				11:30 am\n			\n			\n				\n				\n				\n				\n				\n				\n				\n				\n				\n				Introduction\n			\n			\n				\n				\n				\n				\n				\n				\n				\n				\n				\n				講演者の経歴、人物紹介を司会よりご案内\n			\n			\n				\n				\n				\n				\n			\n				\n				\n				\n				\n				\n				\n				\n				\n				\n				\n				11:35 am\n			\n			\n				\n				\n				\n				\n				\n				\n				\n				\n				\n				Start\n			\n			\n				\n				\n				\n				\n				\n				\n				\n				\n				\n				当日のトピックSTART、講演者セミナーの開始\n			\n			\n				\n				\n				\n				\n			\n				\n				\n				\n				\n				\n				\n				\n				\n				\n				\n				12:30 pm\n			\n			\n				\n				\n				\n				\n				\n				\n				\n				\n				\n				Finish\n			\n			\n				\n				\n				\n				\n				\n				\n				\n				\n				\n				セミナー完結、質疑応答の時間\n			\n			\n				\n				\n				\n				\n			\n				\n				\n				\n				\n				\n				\n				\n				\n				\n				\n				12:40 PM\n			\n			\n				\n				\n				\n				\n				\n				\n				\n				\n				\n				Farewell\n			\n			\n				\n				\n				\n				\n				\n				\n				\n				\n				\n				講演者への感謝、木曜午餐会実行委員会より次回セミナーに関するご案内、お別れのご挨拶\n			\n			\n				\n				\n				\n				\n			\n				\n				\n				\n				\n				\n				\n				イベントカレンダー
URL:https://mokuyo53.org/en/event/rise-and-fall-of-languages-hawaii/
LOCATION:マキキ教会\, 829 Pensacola St\, Honolulu\, Hawaii\, 96814\, 米国
ATTACH;FMTTYPE=image/webp:https://mokuyo53.org/wp-content/uploads/2026/03/Yoshiyuki-ASAHI_PhD.webp
END:VEVENT
BEGIN:VEVENT
DTSTART;TZID=Pacific/Honolulu:20260409T113000
DTEND;TZID=Pacific/Honolulu:20260409T123000
DTSTAMP:20260423T102055
CREATED:20260405T195904Z
LAST-MODIFIED:20260405T195910Z
UID:1414-1775734200-1775737800@mokuyo53.org
SUMMARY:旅の鉄人JTBのイチオシ旅【リンダ岡部】
DESCRIPTION:旅行のスタイルが大きく変わる中で、今や私たちはインターネットで簡単に自分の旅行計画を立てることができるようになりました。しかし、それでもなお、多くの人々が旅行会社に頼る理由は何でしょうか。実際のところ、旅行会社が提供する専門的な知識や、トラブル発生時のサポートは、オンラインでの手配では得られない安心感をもたらします。お話をお聞きいただくことで、こうした理由に納得し、旅行会社の存在意義を再認識していただけることでしょう。\n			\n				\n					\n					\n					\n				\n				\n			\n				\n				\n				\n				\n			\n				\n				\n				\n				\n				\n				\n				\n				\n				\n				\n				リンダ岡部\nJTB USA. INC\,【オペレーション。マネージャー】\n日本を含む各地へのツアーの企画販売。ツアー添乗。最近では沖縄、山口、福岡県人会、各種団体の小中規模から大型団体ツアー企画手配を担当しています。 \nJTB USA：公式HP \n			\n			\n				\n				\n				\n				\n				\n				\n				\n				\n				\n				\n			\n				\n				\n				\n				\n				ご紹介\n皆様に旅行という楽しい思い出をお届けすることを目標に日々過ごしています。初めての場所、初めての経験を通して\, 問題が起こってもすべておおらかに受け止めて笑って楽しく過ごせるように心がけています。\n			\n			\n				\n				\n				\n				\n			\n				\n				\n				\n				\n				\n				\n				イベントカレンダー\n			\n			\n				\n				\n				\n				\n			\n				\n				\n			\n				\n				\n				\n				\n				\n				\n				\n				\n				\n				\n				\n				\n				\n				\n				\n				\n				\n				セミナー・スケジュール\n			\n			\n				\n				\n				\n				\n			\n				\n				\n				\n				\n				\n				\n				\n				\n				\n				\n				11:00 am\n			\n			\n				\n				\n				\n				\n				\n				\n				\n				\n				\n				Check-In\n \n			\n			\n				\n				\n				\n				\n				\n				\n				\n				\n				\n				２階セミナー会場にて参加者の受付を開始します。（エレベーター有）\n			\n			\n				\n				\n				\n				\n			\n				\n				\n				\n				\n				\n				\n				\n				\n				\n				\n				11:25 am\n			\n			\n				\n				\n				\n				\n				\n				\n				\n				\n				\n				Welcome\n			\n			\n				\n				\n				\n				\n				\n				\n				\n				\n				\n				開始のご挨拶、並びに木曜午餐会「オリジナルソング」合唱。\n			\n			\n				\n				\n				\n				\n			\n				\n				\n				\n				\n				\n				\n				\n				\n				\n				\n				11:30 am\n			\n			\n				\n				\n				\n				\n				\n				\n				\n				\n				\n				Introduction\n			\n			\n				\n				\n				\n				\n				\n				\n				\n				\n				\n				講演者の経歴、人物紹介を司会よりご案内\n			\n			\n				\n				\n				\n				\n			\n				\n				\n				\n				\n				\n				\n				\n				\n				\n				\n				11:35 am\n			\n			\n				\n				\n				\n				\n				\n				\n				\n				\n				\n				Start\n			\n			\n				\n				\n				\n				\n				\n				\n				\n				\n				\n				当日のトピックSTART、講演者セミナーの開始\n			\n			\n				\n				\n				\n				\n			\n				\n				\n				\n				\n				\n				\n				\n				\n				\n				\n				12:30 pm\n			\n			\n				\n				\n				\n				\n				\n				\n				\n				\n				\n				Finish\n			\n			\n				\n				\n				\n				\n				\n				\n				\n				\n				\n				セミナー完結、質疑応答の時間\n			\n			\n				\n				\n				\n				\n			\n				\n				\n				\n				\n				\n				\n				\n				\n				\n				\n				12:40 PM\n			\n			\n				\n				\n				\n				\n				\n				\n				\n				\n				\n				Farewell\n			\n			\n				\n				\n				\n				\n				\n				\n				\n				\n				\n				講演者への感謝、木曜午餐会実行委員会より次回セミナーに関するご案内、お別れのご挨拶\n			\n			\n				\n				\n				\n				\n			\n				\n				\n				\n				\n				\n				\n				イベントカレンダー
URL:https://mokuyo53.org/en/event/travel-master-jtb/
LOCATION:マキキ教会\, 829 Pensacola St\, Honolulu\, Hawaii\, 96814\, 米国
ATTACH;FMTTYPE=image/webp:https://mokuyo53.org/wp-content/uploads/2026/04/Linda_Okabe_Mokuyu53.webp
END:VEVENT
BEGIN:VEVENT
DTSTART;TZID=Pacific/Honolulu:20260423T113000
DTEND;TZID=Pacific/Honolulu:20260423T123000
DTSTAMP:20260423T102055
CREATED:20260422T210119Z
LAST-MODIFIED:20260422T210125Z
UID:1437-1776943800-1776947400@mokuyo53.org
SUMMARY:諸般の事情による休会！【04月23日】
DESCRIPTION:【Mokuyo53会】諸般の事情により、誠に勝手ながら明日4月23日の例会は休会とさせていただきます。 \nご不便をおかけして申し訳ありませんが、何卒ご了承くださいますようお願い申し上げます。 \n次の講演日はイベントカレンダーにて随時更新されますのでこちら→をご確認ください\n			\n			\n				\n				\n				\n				\n			\n				\n				\n			\n				\n				\n				\n				\n				\n				\n				\n				\n				\n				\n				\n				\n				\n				\n				\n				\n				\n				\n			\n			\n				\n				\n				\n				\n			\n				\n				\n				\n				\n				\n				\n				イベントカレンダー
URL:https://mokuyo53.org/en/event/notice-2026-04-23/
LOCATION:マキキ教会\, 829 Pensacola St\, Honolulu\, Hawaii\, 96814\, 米国
ATTACH;FMTTYPE=image/png:https://mokuyo53.org/wp-content/uploads/2025/11/Mokuyo53休暇のお知らせ木曜午餐会.png
END:VEVENT
END:VCALENDAR