BEGIN:VCALENDAR
VERSION:2.0
PRODID:-//木曜午餐会ハワイセミナー主催団体 - ECPv6.15.20//NONSGML v1.0//EN
CALSCALE:GREGORIAN
METHOD:PUBLISH
X-WR-CALNAME:木曜午餐会ハワイセミナー主催団体
X-ORIGINAL-URL:https://mokuyo53.org
X-WR-CALDESC:木曜午餐会ハワイセミナー主催団体 のイベント
REFRESH-INTERVAL;VALUE=DURATION:PT1H
X-Robots-Tag:noindex
X-PUBLISHED-TTL:PT1H
BEGIN:VTIMEZONE
TZID:Pacific/Honolulu
BEGIN:STANDARD
TZOFFSETFROM:-1000
TZOFFSETTO:-1000
TZNAME:HST
DTSTART:20240101T000000
END:STANDARD
END:VTIMEZONE
BEGIN:VEVENT
DTSTART;TZID=Pacific/Honolulu:20250308T100000
DTEND;TZID=Pacific/Honolulu:20250309T150000
DTSTAMP:20260423T221522
CREATED:20250306T200753Z
LAST-MODIFIED:20250306T200801Z
UID:891-1741428000-1741532400@mokuyo53.org
SUMMARY:ホノルルフェスティバル【木曜午餐会ブース出展】
DESCRIPTION:【3月8-9日開催】木曜午餐会、ついにホノルルフェスティバル初出展！ 🎉2025年、木曜午餐会（Mokuyo53） が ホノルルフェスティバルに初出展 します！🎊 107年の歴史を誇るこの伝統ある会を、より多くの皆さまに知っていただくため、フェスティバル会場にて特別ブースを展開！ \nさらに、今回のブースには、過去の講演者の中でも特に人気を誇るリタ氏 (Ph.D.) が登場！ 🔮✨ なんと、会場限定で**「占いコンサルティング」** を特別開催します！ \n🌟 こんな方にオススメ！✅ 木曜午餐会の歴史や活動に興味がある方✅ リタ氏の占いコンサルティングを受けてみたい方✅ ホノルルフェスティバルをもっと楽しみたい方 \n歴史と知恵、そしてちょっと不思議な未来のアドバイスを手に入れるチャンス！ぜひブースにお立ち寄りください！ホノルルフェスティバルの熱気と共に、木曜午餐会の魅力をお届けします！皆さまのご来場をお待ちしています！  \n			\n			\n				\n				\n				\n				\n			\n				\n				\n				\n				\n				\n				\n				\n				\n				\n				\n				リタ（Ph.D)\nKusu Kusu Hawaii 代表\n【日本天運学会免許、理学博士\nオアフ島でKusu Kusu Hawaiiを主宰しておりますリタと申します。20歳代から算命学や四柱推命、気学、タロットカードなどの占術を学び始めました。現在はHawaiiを中心に、日本やアメリカ本土、EUのお客様と対面や電話で鑑定させていただいております。四柱推命などの占いは、迷った時、悩んだ時に運命を切り開くヒントをくれたり、一歩、前に踏みだす勇気をくれ（ることがあり）ます。Kusu Kusu Hawaiiの鑑定ではお客様とご一緒に考え、最善と思われる行動（解決策）を導きます。鑑定終了後、お客様のスッキリした笑顔を見る瞬間が、何よりも私の生きるエネルギーになっております。\n			\n			\n				\n				\n				\n				\n				\n				\n				\n				\n				\n				\n			\n				\n				\n				\n				\n				経歴-1989年〜2014年：東京女子大学や立教女学院短期大学などにて教職・研究活動。-2019年〜　Kusu Kusu Hawaii (占い鑑定）を起業。 \n			\n			\n				\n				\n				\n				\n			\n				\n				\n				\n				\n				\n				\n				イベントカレンダー
URL:https://mokuyo53.org/event/%e3%83%9b%e3%83%8e%e3%83%ab%e3%83%ab%e3%83%95%e3%82%a7%e3%82%b9%e3%83%86%e3%82%a3%e3%83%90%e3%83%ab2025/
LOCATION:ハワイコンベンションセンター\, 1801 Kalākaua Ave\, Honolulu\, 96815\, United States
ATTACH;FMTTYPE=image/jpeg:https://mokuyo53.org/wp-content/uploads/2025/03/1083px-Hawaii_Convention_Center.jpg
END:VEVENT
BEGIN:VEVENT
DTSTART;TZID=Pacific/Honolulu:20250313T113000
DTEND;TZID=Pacific/Honolulu:20250313T123000
DTSTAMP:20260423T221522
CREATED:20241216T194036Z
LAST-MODIFIED:20241216T195905Z
UID:772-1741865400-1741869000@mokuyo53.org
SUMMARY:認知症なんて怖くない
DESCRIPTION:【03月13日開催】「認知症の種類、認知症診断直後の戸惑いから認知症をいかに受け入れ、いかに認知症と共に生きるか、認知症への備えと介護における考え方、認知症予防のためのストレス管理、コミュニケーションの取り方、認知症の初期症状を見逃すな、治せる認知症について、日本での介護施設の状況など」につきまして、わかりやすく講演いたします。認知症は誰にでも起こりうる症状です。 \n日々の生活の中で、認知症について関心を持たれている方も多いのではないでしょうか。認知症は、予防や早期発見が非常に重要です。この度、認知症に関する公開講座を開催することとなりました。日頃の疑問や不安も解消していただける機会です。今からできることを学び、日々の生活に役立てていきましょう。皆さまのご参加を心よりお待ちしております。\n			\n				\n					\n					\n					\n				\n				\n					\n					\n					\n				\n				\n			\n				\n				\n				\n				\n			\n				\n				\n				\n				\n				\n				\n				\n				\n				\n				\n				三島一彦\n埼玉医科大学医学部：脳神経外科【教授】\n埼玉医科大学国際医療センター脊髄腫瘍科：診療部長、医学博士（東京大学医学部）、脳神経外科専門医：指導医、脳卒中専門医がん治療認定医、日本脳神経外科認知症学会認定医 \n履歴：■1986年4月：大阪医科大学医学部【卒業】■1986年5月：東京大学医学部付属病院脳神経外科にて研修■1987年5月：富士脳障害研究所付属病院　脳神経外科勤務■1990年4月：東京都立駒込病院　脳神経外科勤務■1992年4月：国立癌センター研究所にて脳腫瘍の基礎研究■1995年4月：東京大学医学部付属病院脳神経外科【助手】■1997年12月：Ludwig Institute for Cancer Research at San Diego\, CA\, U.S.A.　ポスドクフェロー　脳腫瘍の基礎研究に従事■2001年4月：埼玉医科大学脳神経外科【助手】■2003年4月：埼玉医科大学脳神経外科【講師】■2005年6月：埼玉医科大学脳神経外科【助教授】■2007年4月：埼玉医科大学国際医療センター　脳神経外科【准教授】■2012年4月：埼玉医科大学国際医療センター　 脳神経外科【教授】■2022年4月：埼玉医科大学国際医療センター　 脳脊髄腫瘍科【診療部長】脳神経外科運営責任者 、現在に至る。 \n			\n			\n				\n				\n				\n				\n				\n				\n				\n				\n				\n				\n			\n			\n				\n				\n				\n				\n			\n				\n				\n				\n				\n				\n				\n				\n				\n				\n				\n				海津啓之\n医療法人真正会：霞ヶ関南病院【病院長】\n医学博士、脳神経外科専門医、脳卒中専門医 \n履歴：■1986年：宮崎医科大学卒業ー同年埼玉医科大学総合医療センター研修医■1990年：石心会病院脳神経外科【医長】■1992年：北見中央病院ー脳神経外科【部長】■1995年：埼玉医科大学総合医療センター【助手】■1998年：武蔵野総合病院【脳神経外科部長】■2006年：同【副院長】■2016年：同【院長】■2019年：同【理事長】■2020年：霞ヶ関南病院【病院長】現在に至る。 \n			\n			\n				\n				\n				\n				\n				\n				\n				\n				\n				\n				\n			\n			\n				\n				\n				\n				\n			\n				\n				\n				\n				\n				\n				\n				\n				\n				\n				\n				熊木 佐知男\n社会福祉法人美咲会【理事長】\n介護福祉士、社会福祉士 \n履歴：\n秋草学園福祉教育専門学校卒業。　介護福祉士、社会福祉士、介護支援専門員の資格を持ち、社会福祉法人美咲会でケアワーク、ソーシャルワークに従事。\n■2008年より秋草学園福祉教育専門学校で専任教員を務める。\n■2018年6月から社会福祉法人美咲会の経営に参画。グループホームや小規模多機能型居宅介護などの新規事業を立ち上げ。\n■2023年6月から同会の理事長に就任、現在に至る。\n			\n			\n				\n				\n				\n				\n				\n				\n				\n				\n				\n				\n			\n			\n				\n				\n				\n				\n			\n				\n				\n				\n				\n				\n				\n				イベントカレンダー
URL:https://mokuyo53.org/event/%e8%aa%8d%e7%9f%a5%e7%97%87%e3%81%aa%e3%82%93%e3%81%a6%e6%80%96%e3%81%8f%e3%81%aa%e3%81%84/
LOCATION:マキキ教会\, 829 Pensacola St\, Honolulu\, Hawaii\, 96814\, 米国
ATTACH;FMTTYPE=image/jpeg:https://mokuyo53.org/wp-content/uploads/2024/12/認知症なんて怖くない_木曜午餐会ハワイ_セミナー.jpg
END:VEVENT
BEGIN:VEVENT
DTSTART;TZID=Pacific/Honolulu:20250327T113000
DTEND;TZID=Pacific/Honolulu:20250327T123000
DTSTAMP:20260423T221522
CREATED:20250307T205748Z
LAST-MODIFIED:20250307T205756Z
UID:910-1743075000-1743078600@mokuyo53.org
SUMMARY:アメリカと日本の銀行口座活用法【講演者:平井 樹 V.P】
DESCRIPTION:【3月27日開催】「最近、日本で銀行口座を開いたり、日本の銀行口座へお金を送るのが大変と聞くけどどうして？」「もし日本に帰ったら、どのようにしてアメリカにある銀行口座を管理したらいいの？」 \n 日本でもアメリカでも、銀行を取り巻く環境は刻一刻と変化しており、銀行が提供できるサービスも日々進化しています。日本とアメリカの銀行事情に精通したCentral Pacific Bankの銀行員が、銀行に関わるいろいろな疑問にお答えします！みなさまのご参加を心よりお待ちしております。\n			\n			\n				\n				\n				\n				\n			\n				\n				\n				\n				\n				\n				\n				\n				\n				\n				\n				平井 樹\nセントラル パシフィック バンク【Vice President】\n1983年7月ホノルル生まれ、アメリカ（ハワイ、アメリカ本土）で幼少期を過ごし、高校卒業後に日本へ転居。国際基督教大学卒業後、2006年ブルームバーグ日本入社。その後、アメリカ本土（シカゴ、ボストン、デトロイト）で不動産投資ビジネスの営業、投資・運用コンサルタントとして活動。2021年7月　セントラル パシフィック バンク入行\n			\n				\n				\n				\n				\n				フォローフォローフォローフォロー\n			\n			\n				\n				\n				\n				\n				\n				\n				\n				\n				\n				\n			\n				\n				\n				\n				\n				バイスプレジデント・インターナショナルバンキングオフィサー\n			\n			\n				\n				\n				\n				\n			\n				\n				\n				\n				\n				\n				\n				イベントカレンダー\n			\n			\n				\n				\n				\n				\n			\n				\n				\n			\n				\n				\n				\n				\n				\n				\n				\n				\n				\n				\n				\n				\n				\n				\n				\n				\n				\n				セミナー・スケジュール\n			\n			\n				\n				\n				\n				\n			\n				\n				\n				\n				\n				\n				\n				\n				\n				\n				\n				11:00 am\n			\n			\n				\n				\n				\n				\n				\n				\n				\n				\n				\n				Check-In\n \n			\n			\n				\n				\n				\n				\n				\n				\n				\n				\n				\n				２階セミナー会場にて参加者の受付を開始します。（エレベーター有）\n			\n			\n				\n				\n				\n				\n			\n				\n				\n				\n				\n				\n				\n				\n				\n				\n				\n				11:25 am\n			\n			\n				\n				\n				\n				\n				\n				\n				\n				\n				\n				Welcome\n			\n			\n				\n				\n				\n				\n				\n				\n				\n				\n				\n				開始のご挨拶、並びに木曜午餐会「オリジナルソング」合唱。\n			\n			\n				\n				\n				\n				\n			\n				\n				\n				\n				\n				\n				\n				\n				\n				\n				\n				11:30 am\n			\n			\n				\n				\n				\n				\n				\n				\n				\n				\n				\n				Introduction\n			\n			\n				\n				\n				\n				\n				\n				\n				\n				\n				\n				講演者の経歴、人物紹介を司会よりご案内\n			\n			\n				\n				\n				\n				\n			\n				\n				\n				\n				\n				\n				\n				\n				\n				\n				\n				11:35 am\n			\n			\n				\n				\n				\n				\n				\n				\n				\n				\n				\n				Start\n			\n			\n				\n				\n				\n				\n				\n				\n				\n				\n				\n				当日のトピックSTART、講演者セミナーの開始\n			\n			\n				\n				\n				\n				\n			\n				\n				\n				\n				\n				\n				\n				\n				\n				\n				\n				12:30 pm\n			\n			\n				\n				\n				\n				\n				\n				\n				\n				\n				\n				Finish\n			\n			\n				\n				\n				\n				\n				\n				\n				\n				\n				\n				セミナー完結、質疑応答の時間\n			\n			\n				\n				\n				\n				\n			\n				\n				\n				\n				\n				\n				\n				\n				\n				\n				\n				12:40 PM\n			\n			\n				\n				\n				\n				\n				\n				\n				\n				\n				\n				Farewell\n			\n			\n				\n				\n				\n				\n				\n				\n				\n				\n				\n				講演者への感謝、木曜午餐会実行委員会より次回セミナーに関するご案内、お別れのご挨拶\n			\n			\n				\n				\n				\n				\n			\n				\n				\n				\n				\n				\n				\n				イベントカレンダー
URL:https://mokuyo53.org/event/%e3%82%a2%e3%83%a1%e3%83%aa%e3%82%ab%e3%81%a8%e6%97%a5%e6%9c%ac%e3%81%ae%e9%8a%80%e8%a1%8c%e5%8f%a3%e5%ba%a7%e6%b4%bb%e7%94%a8%e6%b3%95/
LOCATION:マキキ教会\, 829 Pensacola St\, Honolulu\, Hawaii\, 96814\, 米国
ATTACH;FMTTYPE=image/jpeg:https://mokuyo53.org/wp-content/uploads/2025/03/平井-樹CPB.jpg
END:VEVENT
END:VCALENDAR