BEGIN:VCALENDAR
VERSION:2.0
PRODID:-//木曜午餐会ハワイセミナー主催団体 - ECPv6.15.20//NONSGML v1.0//EN
CALSCALE:GREGORIAN
METHOD:PUBLISH
X-WR-CALNAME:木曜午餐会ハワイセミナー主催団体
X-ORIGINAL-URL:https://mokuyo53.org
X-WR-CALDESC:木曜午餐会ハワイセミナー主催団体 のイベント
REFRESH-INTERVAL;VALUE=DURATION:PT1H
X-Robots-Tag:noindex
X-PUBLISHED-TTL:PT1H
BEGIN:VTIMEZONE
TZID:Pacific/Honolulu
BEGIN:STANDARD
TZOFFSETFROM:-1000
TZOFFSETTO:-1000
TZNAME:HST
DTSTART:20240101T000000
END:STANDARD
END:VTIMEZONE
BEGIN:VEVENT
DTSTART;TZID=Pacific/Honolulu:20250508T113000
DTEND;TZID=Pacific/Honolulu:20250508T123000
DTSTAMP:20260423T191802
CREATED:20250429T202339Z
LAST-MODIFIED:20250502T204255Z
UID:983-1746703800-1746707400@mokuyo53.org
SUMMARY:狼犬部隊と聖家族の家「愛と平和の架け橋」
DESCRIPTION:【05月8日開催】平和の橋を受け継ぐ想い：US Armyの狼犬部隊と大阪にある聖家族の家の歴史とPeace Bridge非営利財団の役割について！ \n次回の木曜午餐会では、戦争の悲しみを乗り越え、世代を超えて築かれた友情と和解の物語「Peace Bridge（ピースブリッジ）」をテーマにした特別講演を開催します。登壇者は、太平洋戦争に従軍した元米軍MSGT O’Reilly軍曹の息子様、Hugh O’Reilly氏と現在「Peace Bridge」の会長を務める平田梨花氏です。 \nO’Reilly氏は戦後、大阪の孤児院で助けを必要としていた子どもたちに心を寄せ、仲間と共に何度も物資を届けました。中でも、子どもたちのために贈られたクリスマスギフトは、日本の戦後復興期に小さな光となり、多くの心を温めたと言われています。 \nかつて敵同士だったはずの日本人とアメリカ人が、戦後には思いやりと信頼を育み、友情の橋を築いた。その実話は、今を生きる私たちに、国や文化を越えた「共感」と「希望」の大切さを改めて教えてくれます。 \n平和とは、過去を知り、想いを受け継ぎ、未来へと繋げること。ぜひこの機会に、世代と国境を越えた感動のストーリーに触れてみませんか。\n			\n				\n					\n					\n					\n				\n				\n					\n					\n					\n				\n				\n					\n					\n					\n				\n				\n					\n					\n					\n				\n				\n					\n					\n					\n				\n				\n			\n				\n				\n				\n				\n			\n				\n				\n				\n				\n				\n				\n				\n				\n				\n				\n				平田梨花\nPeace Bridge Inc非営利財団：会長\n■出身地：神奈川県茅ヶ崎市\n■主な学歴：福岡雙葉学園高等学校、カンザス州ルイスバーグハイスクール 卒業 上智大学外国語学部 卒業\n■現職 ファーストハワイアンバンク Vice President & Team Leader \n【歴任している（していた）役職等】\n■ハワイレインボー学園日本人補習授業校 顧問\n■表千家同門会ハワイ支部 支部長\n■ハワイ日米協会 会員\n■米日カウンシル 会員\n■元ハワイ日系人連合協会 会長\n■元ホノルル日本人商工会議所 会頭\n■元日本クラブ 会長 \n			\n			\n				\n				\n				\n				\n				\n				\n				\n				\n				\n				\n			\n			\n				\n				\n				\n				\n			\n				\n				\n				\n				\n				\n				\n				\n				\n				\n				\n				Hugh O’Reilly Jr \nPeace Bridge Inc非営利財団：副会長\n■出身地：ホノルル市ハワイ州出身\n■主な学歴：プナホウ・スクール卒業\n■現職：アート、文化、交流プログラ、非営利団体に関わる活動。1947年に大阪に駐在していた時に聖家族の家で伝統を築いたヒュー・オライリー・シニア（Peace Bridge創業者)の長男\n			\n			\n				\n				\n				\n				\n				\n				\n				\n				\n				\n				\n			\n			\n				\n				\n				\n				\n			\n				\n				\n				\n				\n				\n				\n				イベントカレンダー\n			\n			\n				\n				\n				\n				\n			\n				\n				\n			\n				\n				\n				\n				\n				\n				\n				\n				\n				\n				\n				\n				\n				\n				\n				\n				\n				\n				セミナー・スケジュール\n			\n			\n				\n				\n				\n				\n			\n				\n				\n				\n				\n				\n				\n				\n				\n				\n				\n				11:00 am\n			\n			\n				\n				\n				\n				\n				\n				\n				\n				\n				\n				Check-In\n \n			\n			\n				\n				\n				\n				\n				\n				\n				\n				\n				\n				２階セミナー会場にて参加者の受付を開始します。（エレベーター有）\n			\n			\n				\n				\n				\n				\n			\n				\n				\n				\n				\n				\n				\n				\n				\n				\n				\n				11:25 am\n			\n			\n				\n				\n				\n				\n				\n				\n				\n				\n				\n				Welcome\n			\n			\n				\n				\n				\n				\n				\n				\n				\n				\n				\n				開始のご挨拶、並びに木曜午餐会「オリジナルソング」合唱。\n			\n			\n				\n				\n				\n				\n			\n				\n				\n				\n				\n				\n				\n				\n				\n				\n				\n				11:30 am\n			\n			\n				\n				\n				\n				\n				\n				\n				\n				\n				\n				Introduction\n			\n			\n				\n				\n				\n				\n				\n				\n				\n				\n				\n				講演者の経歴、人物紹介を司会よりご案内\n			\n			\n				\n				\n				\n				\n			\n				\n				\n				\n				\n				\n				\n				\n				\n				\n				\n				11:35 am\n			\n			\n				\n				\n				\n				\n				\n				\n				\n				\n				\n				Start\n			\n			\n				\n				\n				\n				\n				\n				\n				\n				\n				\n				当日のトピックSTART、講演者セミナーの開始\n			\n			\n				\n				\n				\n				\n			\n				\n				\n				\n				\n				\n				\n				\n				\n				\n				\n				12:30 pm\n			\n			\n				\n				\n				\n				\n				\n				\n				\n				\n				\n				Finish\n			\n			\n				\n				\n				\n				\n				\n				\n				\n				\n				\n				セミナー完結、質疑応答の時間\n			\n			\n				\n				\n				\n				\n			\n				\n				\n				\n				\n				\n				\n				\n				\n				\n				\n				12:40 PM\n			\n			\n				\n				\n				\n				\n				\n				\n				\n				\n				\n				Farewell\n			\n			\n				\n				\n				\n				\n				\n				\n				\n				\n				\n				講演者への感謝、木曜午餐会実行委員会より次回セミナーに関するご案内、お別れのご挨拶\n			\n			\n				\n				\n				\n				\n			\n				\n				\n				\n				\n				\n				\n				イベントカレンダー
URL:https://mokuyo53.org/event/%e7%8b%bc%e7%8a%ac%e9%83%a8%e9%9a%8a%e3%81%a8%e8%81%96%e5%ae%b6%e6%97%8f%e3%81%ae%e5%ae%b6/
LOCATION:マキキ教会\, 829 Pensacola St\, Honolulu\, Hawaii\, 96814\, 米国
ATTACH;FMTTYPE=image/jpeg:https://mokuyo53.org/wp-content/uploads/2025/04/狼犬部隊と聖家族の家「愛と平和の架け橋」_木曜午餐会セミナー.jpg
END:VEVENT
BEGIN:VEVENT
DTSTART;TZID=Pacific/Honolulu:20250522T113000
DTEND;TZID=Pacific/Honolulu:20250522T123000
DTSTAMP:20260423T191802
CREATED:20250506T063740Z
LAST-MODIFIED:20250506T063748Z
UID:1031-1747913400-1747917000@mokuyo53.org
SUMMARY:もしもの時に慌てない！ハワイでの葬儀手配と遺体搬送の全ステップ
DESCRIPTION:【5月22日開催】在住者・遺族・旅行者が知っておくべきハワイ葬儀手配と法的手続きの流れ！ \n「人生に必要な準備は旅の計画と、その後の計画です」\nそう語るのは、今回のゲストスピーカーであるヌウアヌ メモリアルパーク＆葬儀所のベテラン葬祭ディレクターのJack 山田氏です。 \nハワイに暮らす私たち、あるいはハワイに家族や親族を持つ日本人にとって、「もしもの時の対応」を知っておくことは、愛する人のための最大の備えかもしれません。今回のセミナーでは、ハワイ在住者、日本人旅行者、日系人コミュニティなど、誰にとっても無関係ではない「ハワイでの葬儀・終活・遺体搬送」について、現場のプロフェッショナルが具体的かつ実用的な手順を丁寧にご紹介します。 \n「遺体の搬送って、どうやるの？」「日本への遺骨の送り方は？」「ハワイに納骨する場合の手続きは？」「費用はどのくらい？」「そもそも法的に何が必要なの？」そんな不安や疑問を一挙に解消する、今さら聞けないけど今こそ知りたい内容が満載です。また、セミナー後半では、ハワイでの終活サポートサービスや人生の終わりの準備にまつわるガイドライン、法的な注意点や文化的な違いなどにも触れ、しっかりと心に届く内容をお届けします。 \n「話が重くならないように」と願う皆さま、ご安心を。明るく、しかし大切な話題として、プロならではの軽妙さでお届けします。 \nセミナー内容のトピック\n\nハワイでの葬儀手配ステップの全体像\nご遺体・ご遺骨の搬送：ハワイ → 日本、ハワイ → ハワイ\n現地の法的手続き・必要書類\n葬儀の種類と費用の目安\nハワイで納骨する場合の手配と選択肢\n終活サポートのご案内と最新情報\n\n大切なのは、その日に慌てないこと。そのために、今、知っておきましょう。 \nみなさまのご参加を心よりお待ちしております。 \nPhoto © Nuuanu Memorial Park & Mortuary\n			\n				\n					\n					\n					\n				\n				\n					\n					\n					\n				\n				\n					\n					\n					\n				\n				\n			\n				\n				\n				\n				\n			\n				\n				\n				\n				\n				\n				\n				\n				\n				\n				\n				JACK 山田\nヌウアヌ メモリアルパーク＆葬儀所【葬祭ディレクター】\n\n1981年: ホノルル市、ハワイ州生まれ\n剣道練士6段取得者\n\nNuuanu Memorial Park & Mortuary：公式HP\n			\n			\n				\n				\n				\n				\n				\n				\n				\n				\n				\n				\n			\n			\n				\n				\n				\n				\n			\n				\n				\n				\n				\n				\n				\n				イベントカレンダー\n			\n			\n				\n				\n				\n				\n			\n				\n				\n			\n				\n				\n				\n				\n				\n				\n				\n				\n				\n				\n				\n				\n				\n				\n				\n				\n				\n				セミナー・スケジュール\n			\n			\n				\n				\n				\n				\n			\n				\n				\n				\n				\n				\n				\n				\n				\n				\n				\n				11:00 am\n			\n			\n				\n				\n				\n				\n				\n				\n				\n				\n				\n				Check-In\n \n			\n			\n				\n				\n				\n				\n				\n				\n				\n				\n				\n				２階セミナー会場にて参加者の受付を開始します。（エレベーター有）\n			\n			\n				\n				\n				\n				\n			\n				\n				\n				\n				\n				\n				\n				\n				\n				\n				\n				11:25 am\n			\n			\n				\n				\n				\n				\n				\n				\n				\n				\n				\n				Welcome\n			\n			\n				\n				\n				\n				\n				\n				\n				\n				\n				\n				開始のご挨拶、並びに木曜午餐会「オリジナルソング」合唱。\n			\n			\n				\n				\n				\n				\n			\n				\n				\n				\n				\n				\n				\n				\n				\n				\n				\n				11:30 am\n			\n			\n				\n				\n				\n				\n				\n				\n				\n				\n				\n				Introduction\n			\n			\n				\n				\n				\n				\n				\n				\n				\n				\n				\n				講演者の経歴、人物紹介を司会よりご案内\n			\n			\n				\n				\n				\n				\n			\n				\n				\n				\n				\n				\n				\n				\n				\n				\n				\n				11:35 am\n			\n			\n				\n				\n				\n				\n				\n				\n				\n				\n				\n				Start\n			\n			\n				\n				\n				\n				\n				\n				\n				\n				\n				\n				当日のトピックSTART、講演者セミナーの開始\n			\n			\n				\n				\n				\n				\n			\n				\n				\n				\n				\n				\n				\n				\n				\n				\n				\n				12:30 pm\n			\n			\n				\n				\n				\n				\n				\n				\n				\n				\n				\n				Finish\n			\n			\n				\n				\n				\n				\n				\n				\n				\n				\n				\n				セミナー完結、質疑応答の時間\n			\n			\n				\n				\n				\n				\n			\n				\n				\n				\n				\n				\n				\n				\n				\n				\n				\n				12:40 PM\n			\n			\n				\n				\n				\n				\n				\n				\n				\n				\n				\n				Farewell\n			\n			\n				\n				\n				\n				\n				\n				\n				\n				\n				\n				講演者への感謝、木曜午餐会実行委員会より次回セミナーに関するご案内、お別れのご挨拶\n			\n			\n				\n				\n				\n				\n			\n				\n				\n				\n				\n				\n				\n				イベントカレンダー
URL:https://mokuyo53.org/event/%e3%83%8f%e3%83%af%e3%82%a4%e3%81%a7%e3%81%ae%e8%91%ac%e5%84%80%e6%89%8b%e9%85%8d%e3%81%a8%e9%81%ba%e4%bd%93%e6%90%ac%e9%80%81/
LOCATION:マキキ教会\, 829 Pensacola St\, Honolulu\, Hawaii\, 96814\, 米国
ATTACH;FMTTYPE=image/jpeg:https://mokuyo53.org/wp-content/uploads/2025/05/Jack_山田セミナーハワイ_Mokuyo53.jpg
END:VEVENT
END:VCALENDAR