BEGIN:VCALENDAR
VERSION:2.0
PRODID:-//木曜午餐会ハワイセミナー主催団体 - ECPv6.15.20//NONSGML v1.0//EN
CALSCALE:GREGORIAN
METHOD:PUBLISH
X-WR-CALNAME:木曜午餐会ハワイセミナー主催団体
X-ORIGINAL-URL:https://mokuyo53.org
X-WR-CALDESC:木曜午餐会ハワイセミナー主催団体 のイベント
REFRESH-INTERVAL;VALUE=DURATION:PT1H
X-Robots-Tag:noindex
X-PUBLISHED-TTL:PT1H
BEGIN:VTIMEZONE
TZID:Pacific/Honolulu
BEGIN:STANDARD
TZOFFSETFROM:-1000
TZOFFSETTO:-1000
TZNAME:HST
DTSTART:20240101T000000
END:STANDARD
END:VTIMEZONE
BEGIN:VEVENT
DTSTART;TZID=Pacific/Honolulu:20250605T113000
DTEND;TZID=Pacific/Honolulu:20250605T123000
DTSTAMP:20260423T175905
CREATED:20250416T204959Z
LAST-MODIFIED:20250513T201559Z
UID:965-1749123000-1749126600@mokuyo53.org
SUMMARY:美味しいごはんの炊き方今昔物語【NorifulWorld】
DESCRIPTION:【6月5日開催】お米の種類、お鍋の選び方から昔ながらのご飯の炊き方、災害時でも慌てずにごはんを炊ける実体験のお話。 \n美味しいごはんの炊き方に関する具体的なテクニックやポイントを紹介し、屋外でも手軽に炊ける方法を提案します。参加者には、実践的な知識と、自宅で簡単に取り入れられる工夫をお届けします。\n			\n				\n					\n					\n					\n				\n				\n					\n					\n					\n				\n				\n			\n				\n				\n				\n				\n			\n				\n				\n				\n				\n				\n				\n				\n				\n				\n				\n				紀子.\nNorifulWorld【会社役員・料理研究家】\n\n1983年: 国立音楽大学在学中より、懐石料理近茶流に入門。伝統的な日本料理の技術と食文化を学び1990年には懐石講師をの許状を取得。\n1987年: 「姫と王子の音楽教室」を主宰。ピアノおよびエレクトーンの指導を通じて、教育の場でのコミュニケーション能力を磨く。\n子育てを経て: 子どもたちと一緒に料理を楽しむ中で、食に対する情熱が再燃。\n現在: 日本の食材を大事にしながら、旅先での諸外国の料理を再現する研究家として活動中。\n\nNorifulWorld：公式HP\n			\n			\n				\n				\n				\n				\n				\n				\n				\n				\n				\n				\n			\n				\n				\n				\n				\n				肩書・資格\n肩書：会社役員・料理研究家\n資格：音楽学士、近茶流懐石講師\n			\n			\n				\n				\n				\n				\n			\n				\n				\n				\n				\n				\n				\n				イベントカレンダー\n			\n			\n				\n				\n				\n				\n			\n				\n				\n			\n				\n				\n				\n				\n				\n				\n				\n				\n				\n				\n				\n				\n				\n				\n				\n				\n				\n				セミナー・スケジュール\n			\n			\n				\n				\n				\n				\n			\n				\n				\n				\n				\n				\n				\n				\n				\n				\n				\n				11:00 am\n			\n			\n				\n				\n				\n				\n				\n				\n				\n				\n				\n				Check-In\n \n			\n			\n				\n				\n				\n				\n				\n				\n				\n				\n				\n				２階セミナー会場にて参加者の受付を開始します。（エレベーター有）\n			\n			\n				\n				\n				\n				\n			\n				\n				\n				\n				\n				\n				\n				\n				\n				\n				\n				11:25 am\n			\n			\n				\n				\n				\n				\n				\n				\n				\n				\n				\n				Welcome\n			\n			\n				\n				\n				\n				\n				\n				\n				\n				\n				\n				開始のご挨拶、並びに木曜午餐会「オリジナルソング」合唱。\n			\n			\n				\n				\n				\n				\n			\n				\n				\n				\n				\n				\n				\n				\n				\n				\n				\n				11:30 am\n			\n			\n				\n				\n				\n				\n				\n				\n				\n				\n				\n				Introduction\n			\n			\n				\n				\n				\n				\n				\n				\n				\n				\n				\n				講演者の経歴、人物紹介を司会よりご案内\n			\n			\n				\n				\n				\n				\n			\n				\n				\n				\n				\n				\n				\n				\n				\n				\n				\n				11:35 am\n			\n			\n				\n				\n				\n				\n				\n				\n				\n				\n				\n				Start\n			\n			\n				\n				\n				\n				\n				\n				\n				\n				\n				\n				当日のトピックSTART、講演者セミナーの開始\n			\n			\n				\n				\n				\n				\n			\n				\n				\n				\n				\n				\n				\n				\n				\n				\n				\n				12:30 pm\n			\n			\n				\n				\n				\n				\n				\n				\n				\n				\n				\n				Finish\n			\n			\n				\n				\n				\n				\n				\n				\n				\n				\n				\n				セミナー完結、質疑応答の時間\n			\n			\n				\n				\n				\n				\n			\n				\n				\n				\n				\n				\n				\n				\n				\n				\n				\n				12:40 PM\n			\n			\n				\n				\n				\n				\n				\n				\n				\n				\n				\n				Farewell\n			\n			\n				\n				\n				\n				\n				\n				\n				\n				\n				\n				講演者への感謝、木曜午餐会実行委員会より次回セミナーに関するご案内、お別れのご挨拶\n			\n			\n				\n				\n				\n				\n			\n				\n				\n				\n				\n				\n				\n				イベントカレンダー
URL:https://mokuyo53.org/event/%e7%be%8e%e5%91%b3%e3%81%97%e3%81%84%e3%81%94%e3%81%af%e3%82%93%e3%81%ae%e7%82%8a%e3%81%8d%e6%96%b9/
LOCATION:マキキ教会\, 829 Pensacola St\, Honolulu\, Hawaii\, 96814\, 米国
ATTACH;FMTTYPE=image/jpeg:https://mokuyo53.org/wp-content/uploads/2025/04/IMG_6826-紀子.jpg
END:VEVENT
BEGIN:VEVENT
DTSTART;TZID=Pacific/Honolulu:20250626T113000
DTEND;TZID=Pacific/Honolulu:20250626T123000
DTSTAMP:20260423T175905
CREATED:20250515T193429Z
LAST-MODIFIED:20250522T201625Z
UID:1065-1750937400-1750941000@mokuyo53.org
SUMMARY:家庭での転倒予防＆片頭痛セルフケアサポート
DESCRIPTION:【6月26日開催】60歳を過ぎると、筋力の低下が進み、特に足腰の機能が衰えることで転倒のリスクが飛躍的に増加します。この問題は、ただの事故を超えて、高齢者の健康と生活の質に深刻な影響を及ぼします。そこで私たちは、医薬品に依存することなく、日常生活の中で身に着けることで体力を回復できる革新的な商品をご提案します。特に体幹機能が著しく低下している高齢者や入院患者においては、転倒や骨折は医療上の大きな懸念事項であり、これに対処するための新たな戦略が求められています。 \n加齢による体幹機能の衰えが転倒の頻度を高める中、従来の転倒対策である転倒リスクシートや睡眠薬、そして適切な履物に加え、私たちは体幹機能の安定化に特化した革新的なアプローチに焦点を当て、転倒を効果的に予防するための研究を進めております。この取り組みを通じて、私たちは高齢者の安全を守り、より充実した生活を送るためのサポートを目指しています。\n			\n			\n				\n				\n				\n				\n			\n				\n				\n				\n				\n				\n				\n				\n				\n				\n				\n				辰元宗人\n獨協医科大学病院脳神経内科【日本頭痛学会理事】\n日本脳神経学会でEQT研究の発表、医療安全学会で院内での転倒対策 \n【資格】 \n\n医師\n医学博士\n日本頭痛学会専門医\n医療安全管理者\n\nStep EQT：公式HP\n			\n			\n				\n				\n				\n				\n				\n				\n				\n				\n				\n				\n			\n				\n				\n				\n				\n				肩書\n日本頭痛学会理事、日本医療安全学会理事 \n所属団体・会社名\n獨協医科大学病院脳神経内科、キャノンマーケティングジャパン株R&B推進本部\n			\n			\n				\n				\n				\n				\n			\n				\n				\n				\n				\n				\n				\n				\n				\n				\n				\n				小川久美子\nOGAWA VET CLINIC【獣医師】\n2010年シドニー大学獣医学部を卒業後、小動物病院に勤務し、ウサギ専門医やシェルターの獣医師として臨床経験を積んできました。小動物の繊細なケアに深く携わる中で、西洋医学だけでは対応しきれないケースに多く直面し、より包括的なアプローチの重要性を実感するようになりました。その想いから、2023年オーストラリア・メルボルンにて、ホリスティック獣医療を専門とするOgawa Vet Clinicを開業。針治療、漢方、自然療法を取り入れ、動物と飼い主の心と身体の健康をトータルでサポートしています。ハワイの皆様とお会いできるのを心より楽しみにしております。 \n【資格】 \n\nALAMO\n獣医師\n\nOGAWA VET CLINIC：公式HP\n			\n			\n				\n				\n				\n				\n				\n				\n				\n				\n				\n				\n			\n				\n				\n				\n				\n				肩書\n獣医師 \n所属団体・会社名\nOGAWA VET CLINIC\n			\n			\n				\n				\n				\n				\n			\n				\n				\n				\n				\n				\n				\n				イベントカレンダー\n			\n			\n				\n				\n				\n				\n			\n				\n				\n			\n				\n				\n				\n				\n				\n				\n				\n				\n				\n				\n				\n				\n				\n				\n				\n				\n				\n				セミナー・スケジュール\n			\n			\n				\n				\n				\n				\n			\n				\n				\n				\n				\n				\n				\n				\n				\n				\n				\n				11:00 am\n			\n			\n				\n				\n				\n				\n				\n				\n				\n				\n				\n				Check-In\n \n			\n			\n				\n				\n				\n				\n				\n				\n				\n				\n				\n				２階セミナー会場にて参加者の受付を開始します。（エレベーター有）\n			\n			\n				\n				\n				\n				\n			\n				\n				\n				\n				\n				\n				\n				\n				\n				\n				\n				11:25 am\n			\n			\n				\n				\n				\n				\n				\n				\n				\n				\n				\n				Welcome\n			\n			\n				\n				\n				\n				\n				\n				\n				\n				\n				\n				開始のご挨拶、並びに木曜午餐会「オリジナルソング」合唱。\n			\n			\n				\n				\n				\n				\n			\n				\n				\n				\n				\n				\n				\n				\n				\n				\n				\n				11:30 am\n			\n			\n				\n				\n				\n				\n				\n				\n				\n				\n				\n				Introduction\n			\n			\n				\n				\n				\n				\n				\n				\n				\n				\n				\n				講演者の経歴、人物紹介を司会よりご案内\n			\n			\n				\n				\n				\n				\n			\n				\n				\n				\n				\n				\n				\n				\n				\n				\n				\n				11:35 am\n			\n			\n				\n				\n				\n				\n				\n				\n				\n				\n				\n				Start\n			\n			\n				\n				\n				\n				\n				\n				\n				\n				\n				\n				当日のトピックSTART、講演者セミナーの開始\n			\n			\n				\n				\n				\n				\n			\n				\n				\n				\n				\n				\n				\n				\n				\n				\n				\n				12:30 pm\n			\n			\n				\n				\n				\n				\n				\n				\n				\n				\n				\n				Finish\n			\n			\n				\n				\n				\n				\n				\n				\n				\n				\n				\n				セミナー完結、質疑応答の時間\n			\n			\n				\n				\n				\n				\n			\n				\n				\n				\n				\n				\n				\n				\n				\n				\n				\n				12:40 PM\n			\n			\n				\n				\n				\n				\n				\n				\n				\n				\n				\n				Farewell\n			\n			\n				\n				\n				\n				\n				\n				\n				\n				\n				\n				講演者への感謝、木曜午餐会実行委員会より次回セミナーに関するご案内、お別れのご挨拶\n			\n			\n				\n				\n				\n				\n			\n				\n				\n				\n				\n				\n				\n				イベントカレンダー
URL:https://mokuyo53.org/event/%e5%ae%b6%e5%ba%ad%e3%81%a7%e3%81%ae%e8%bb%a2%e5%80%92%e4%ba%88%e9%98%b2%ef%bc%86%e7%89%87%e9%a0%ad%e7%97%9b/
LOCATION:マキキ教会\, 829 Pensacola St\, Honolulu\, Hawaii\, 96814\, 米国
ATTACH;FMTTYPE=image/jpeg:https://mokuyo53.org/wp-content/uploads/2025/05/YOICHI-NAKAHARA.jpg
END:VEVENT
END:VCALENDAR